BEGIN:VCALENDAR
VERSION:2.0
PRODID:-//Squarespace Inc/Squarespace 6//v6//EN
BEGIN:VEVENT
UID:5dc39647772f2c7a8e04e86a@squarespace.com
DTSTAMP:20191112T172733Z
DTSTART:20200120T220000Z
DTEND:20200121T040000Z
SUMMARY:Cooking Camp - Day Five
END:VEVENT
END:VCALENDAR
