BEGIN:VCALENDAR
VERSION:2.0
PRODID:-//Squarespace Inc/Squarespace 6//v6//EN
BEGIN:VEVENT
UID:5dc395668c948a56dcb81843@squarespace.com
DTSTAMP:20200108T225823Z
DTSTART:20200117T020000Z
DTEND:20200117T040000Z
SUMMARY:Cooking Camp - Day Four
END:VEVENT
END:VCALENDAR
