BEGIN:VCALENDAR
VERSION:2.0
PRODID:-//Squarespace Inc/Squarespace 6//v6//EN
BEGIN:VEVENT
UID:5dc3930d29b11d43b19479f9@squarespace.com
DTSTAMP:20200108T225716Z
DTSTART:20200116T020000Z
DTEND:20200116T040000Z
SUMMARY:Cooking Camp - Day Three
END:VEVENT
END:VCALENDAR
