BEGIN:VCALENDAR
VERSION:2.0
PRODID:-//Squarespace Inc/Squarespace 6//v6//EN
BEGIN:VEVENT
UID:5dc38ca58c948a56dcb74ed7@squarespace.com
DTSTAMP:20191112T172606Z
DTSTART:20200114T220000Z
DTEND:20200115T040000Z
SUMMARY:Cooking Camp - Day Two
END:VEVENT
END:VCALENDAR
