BEGIN:VCALENDAR
VERSION:2.0
PRODID:-//Squarespace Inc/Squarespace 6//v6//EN
BEGIN:VEVENT
UID:5ce60a27c830258f8e5a4c00@squarespace.com
DTSTAMP:20190626T043525Z
DTSTART:20190607T030000Z
DTEND:20190607T040000Z
SUMMARY:Saffy's unicorn party
END:VEVENT
END:VCALENDAR
