BEGIN:VCALENDAR
VERSION:2.0
PRODID:-//Squarespace Inc/Squarespace 6//v6//EN
BEGIN:VEVENT
UID:5cb7ef4eeef1a19c5476e6c3@squarespace.com
DTSTAMP:20190626T043501Z
DTSTART:20190628T013000Z
DTEND:20190628T030000Z
SUMMARY:Gozleme Fun!
END:VEVENT
END:VCALENDAR
