BEGIN:VCALENDAR
VERSION:2.0
PRODID:-//Squarespace Inc/Squarespace 6//v6//EN
BEGIN:VEVENT
UID:5dc38783772f2c7a8e03a148@squarespace.com
DTSTAMP:20191124T080838Z
DTSTART:20191222T020000Z
DTEND:20191222T040000Z
SUMMARY:Ginger Bread House Making - Adult and Child Event
END:VEVENT
END:VCALENDAR
