BEGIN:VCALENDAR
VERSION:2.0
PRODID:-//Squarespace Inc/Squarespace 6//v6//EN
BEGIN:VEVENT
UID:5dc385d983f5b42adb8d3cf8@squarespace.com
DTSTAMP:20191112T172240Z
DTSTART:20191220T073000Z
DTEND:20191220T093000Z
SUMMARY:Ginger Bread House Making - Adult and Child Workshop
END:VEVENT
END:VCALENDAR
