BEGIN:VCALENDAR
VERSION:2.0
PRODID:-//Squarespace Inc/Squarespace 6//v6//EN
BEGIN:VEVENT
UID:5dc38a0970206718a68bbabc@squarespace.com
DTSTAMP:20191124T082048Z
DTSTART:20191223T230000Z
DTEND:20191224T010000Z
SUMMARY:Summer Fruit and Chocolate Bouquet - Kids Only Workshop
END:VEVENT
END:VCALENDAR
