BEGIN:VCALENDAR
VERSION:2.0
PRODID:-//Squarespace Inc/Squarespace 6//v6//EN
BEGIN:VEVENT
UID:5dc38b16f01f7456220736ff@squarespace.com
DTSTAMP:20191112T172546Z
DTSTART:20200113T220000Z
DTEND:20200114T040000Z
SUMMARY:Cooking Camp - Day One
END:VEVENT
END:VCALENDAR
