BEGIN:VCALENDAR
VERSION:2.0
PRODID:-//Squarespace Inc/Squarespace 6//v6//EN
BEGIN:VEVENT
UID:5dc37cb8bc13a462d7f5c3d0@squarespace.com
DTSTAMP:20191127T045510Z
DTSTART:20191207T230000Z
DTEND:20191208T003000Z
SUMMARY:Christmas Workshop - 2-7 year olds (AM Session)
END:VEVENT
END:VCALENDAR
