BEGIN:VCALENDAR
VERSION:2.0
PRODID:-//Squarespace Inc/Squarespace 6//v6//EN
BEGIN:VEVENT
UID:5d6d5e1f68abb2000129d722@squarespace.com
DTSTAMP:20190904T154957Z
DTSTART:20191008T220000Z
DTEND:20191008T231500Z
SUMMARY:Raspberry Chocolate Brownies
END:VEVENT
END:VCALENDAR
