BEGIN:VCALENDAR
VERSION:2.0
PRODID:-//Squarespace Inc/Squarespace 6//v6//EN
BEGIN:VEVENT
UID:5d6d64a641111900013f7215@squarespace.com
DTSTAMP:20190904T155108Z
DTSTART:20191009T000000Z
DTEND:20191009T020000Z
SUMMARY:Lebanese Table / Kofta\,&nbsp\;Homous&nbsp\;and Borek (Pastry – veg
 )&nbsp\;
END:VEVENT
END:VCALENDAR
