BEGIN:VCALENDAR
VERSION:2.0
PRODID:-//Squarespace Inc/Squarespace 6//v6//EN
BEGIN:VEVENT
UID:5d6d534941111900013d9f92@squarespace.com
DTSTAMP:20190904T154939Z
DTSTART:20191008T030000Z
DTEND:20191008T041500Z
SUMMARY:Calzone (Pizza Dough)
END:VEVENT
END:VCALENDAR
