BEGIN:VCALENDAR
VERSION:2.0
PRODID:-//Squarespace Inc/Squarespace 6//v6//EN
BEGIN:VEVENT
UID:5d7715a821477a33dc1e4287@squarespace.com
DTSTAMP:20190910T031945Z
DTSTART:20191026T030000Z
DTEND:20191026T060000Z
SUMMARY:French Specialties Based on Veggies - Day 2
END:VEVENT
END:VCALENDAR
