BEGIN:VCALENDAR
VERSION:2.0
PRODID:-//Squarespace Inc/Squarespace 6//v6//EN
BEGIN:VEVENT
UID:5da44aa0bc05e525b7c1fb25@squarespace.com
DTSTAMP:20191014T102215Z
DTSTART:20191025T080000Z
DTEND:20191025T100000Z
SUMMARY:P: TERM 4\, TERM COOKING COURSE - ITALIAN COOKING (AGES 10-16 YEARS
 )
END:VEVENT
END:VCALENDAR
