BEGIN:VCALENDAR
VERSION:2.0
PRODID:-//Squarespace Inc/Squarespace 6//v6//EN
BEGIN:VEVENT
UID:5d76d590d41eb400e8e8474d@squarespace.com
DTSTAMP:20190909T230142Z
DTSTART:20191019T030000Z
DTEND:20191019T060000Z
SUMMARY:Masterclass - Fruit Based Desserts Day 2
END:VEVENT
END:VCALENDAR
