BEGIN:VCALENDAR
VERSION:2.0
PRODID:-//Squarespace Inc/Squarespace 6//v6//EN
BEGIN:VEVENT
UID:5d76d4f02e56ae18e4e4295d@squarespace.com
DTSTAMP:20190909T230229Z
DTSTART:20191018T050000Z
DTEND:20191018T080000Z
SUMMARY:Masterclass - Fruit Based Desserts Day 1
END:VEVENT
END:VCALENDAR
