BEGIN:VCALENDAR
VERSION:2.0
PRODID:-//Squarespace Inc/Squarespace 6//v6//EN
BEGIN:VEVENT
UID:5d3a81a2852c1c0001248aa5@squarespace.com
DTSTAMP:20191013T235730Z
DTSTART:20191024T073000Z
DTEND:20191024T093000Z
SUMMARY:Term 4 2019 Cooking Course - HELP ! I'm moving out!
END:VEVENT
END:VCALENDAR
