BEGIN:VCALENDAR
VERSION:2.0
PRODID:-//Squarespace Inc/Squarespace 6//v6//EN
BEGIN:VEVENT
UID:5d71ccc2f7a8e3000103ac98@squarespace.com
DTSTAMP:20190906T030622Z
DTSTART:20191010T220000Z
DTEND:20191011T050000Z
SUMMARY:Ooh La La - Welcome to Sweet Paris - Day 2
END:VEVENT
END:VCALENDAR
